BEGIN:VCALENDAR
VERSION:2.0
PRODID:-//PassArena - ECPv6.15.18//NONSGML v1.0//EN
CALSCALE:GREGORIAN
METHOD:PUBLISH
X-ORIGINAL-URL:https://passarena.de
X-WR-CALDESC:Veranstaltungen für PassArena
REFRESH-INTERVAL;VALUE=DURATION:PT1H
X-Robots-Tag:noindex
X-PUBLISHED-TTL:PT1H
BEGIN:VTIMEZONE
TZID:Europe/Berlin
BEGIN:DAYLIGHT
TZOFFSETFROM:+0100
TZOFFSETTO:+0200
TZNAME:CEST
DTSTART:20250330T010000
END:DAYLIGHT
BEGIN:STANDARD
TZOFFSETFROM:+0200
TZOFFSETTO:+0100
TZNAME:CET
DTSTART:20251026T010000
END:STANDARD
BEGIN:DAYLIGHT
TZOFFSETFROM:+0100
TZOFFSETTO:+0200
TZNAME:CEST
DTSTART:20260329T010000
END:DAYLIGHT
BEGIN:STANDARD
TZOFFSETFROM:+0200
TZOFFSETTO:+0100
TZNAME:CET
DTSTART:20261025T010000
END:STANDARD
BEGIN:DAYLIGHT
TZOFFSETFROM:+0100
TZOFFSETTO:+0200
TZNAME:CEST
DTSTART:20270328T010000
END:DAYLIGHT
BEGIN:STANDARD
TZOFFSETFROM:+0200
TZOFFSETTO:+0100
TZNAME:CET
DTSTART:20271031T010000
END:STANDARD
END:VTIMEZONE
BEGIN:VEVENT
DTSTART;TZID=Europe/Berlin:20260521T180000
DTEND;TZID=Europe/Berlin:20260521T180000
DTSTAMP:20260424T215453
CREATED:20260320T180140Z
LAST-MODIFIED:20260320T180938Z
UID:914-1779386400-1779386400@passarena.de
SUMMARY:Genuss mit Schuss – Brennereiführung\, 3-Gänge-Menü & Edelbrand-Verkostung 21.05.2026
DESCRIPTION:Tauche ein in die Welt der handwerklichen Brennkunst im Gasthaus Sponsel. \nBei einer exklusiven Führung erhältst du spannende Einblicke in die Herstellung unserer Brände\, Geiste und Liköre. Erfahre\, wie aus ausgewählten Zutaten hochwertige Edelbrände entstehen – direkt vor Ort und aus erster Hand erklärt. \nIm Anschluss erwartet dich ein genussvoller Abend mit einem sorgfältig abgestimmten Drei-Gänge-Menü aus unserer Küche. Begleitend dazu verkostest du vier ausgewählte Edelbrände\, die perfekt auf die Speisen abgestimmt sind. \nLeistungen im Überblick: \n\nFührung durch die Brennerei\nEinblicke in Herstellung und Handwerk\nDrei-Gänge-Menü\nVerkostung von vier Edelbränden\n\nRahmendaten: \n\nDauer: ca. 3–4 Stunden\nTeilnehmer: max. 12 Personen (kleine\, persönliche Gruppe)\nPreis: 53\,00 € pro Person\n\nWichtiger Hinweis:Die Veranstaltung findet nur bei Erreichen der Mindestteilnehmerzahl von 6 Personen statt. Sollte ein Termin nicht zustande kommen\, erfolgt eine vollständige Rückerstattung.
URL:https://passarena.de/event/genuss-mit-schuss-21052026/
LOCATION:Gasthaus Sponsel\, Hauptstrasse 45\, Kirchehrenbach\, Bayern\, 91356\, Germany
CATEGORIES:Kultur & Events
ATTACH;FMTTYPE=image/png:https://passarena.de/wp-content/uploads/2026/03/PassArena-Format-Homepage-Designer.png
ORGANIZER;CN="Brennerei-Gasthaus Sponsel":MAILTO:passarena@gasthaus-sponsel.de
END:VEVENT
BEGIN:VEVENT
DTSTART;TZID=Europe/Berlin:20260528T180000
DTEND;TZID=Europe/Berlin:20260528T180000
DTSTAMP:20260424T215453
CREATED:20260320T180440Z
LAST-MODIFIED:20260320T180455Z
UID:917-1779991200-1779991200@passarena.de
SUMMARY:Genuss mit Schuss – Brennereiführung\, 3-Gänge-Menü & Edelbrand-Verkostung 28.05.2026
DESCRIPTION:Tauche ein in die Welt der handwerklichen Brennkunst im Gasthaus Sponsel. \nBei einer exklusiven Führung erhältst du spannende Einblicke in die Herstellung unserer Brände\, Geiste und Liköre. Erfahre\, wie aus ausgewählten Zutaten hochwertige Edelbrände entstehen – direkt vor Ort und aus erster Hand erklärt. \nIm Anschluss erwartet dich ein genussvoller Abend mit einem sorgfältig abgestimmten Drei-Gänge-Menü aus unserer Küche. Begleitend dazu verkostest du vier ausgewählte Edelbrände\, die perfekt auf die Speisen abgestimmt sind. \nLeistungen im Überblick: \n\nFührung durch die Brennerei\nEinblicke in Herstellung und Handwerk\nDrei-Gänge-Menü\nVerkostung von vier Edelbränden\n\nRahmendaten: \n\nDauer: ca. 3–4 Stunden\nTeilnehmer: max. 12 Personen (kleine\, persönliche Gruppe)\nPreis: 53\,00 € pro Person\n\nWichtiger Hinweis:Die Veranstaltung findet nur bei Erreichen der Mindestteilnehmerzahl von 6 Personen statt. Sollte ein Termin nicht zustande kommen\, erfolgt eine vollständige Rückerstattung.
URL:https://passarena.de/event/genuss-mit-schuss-28052026/
LOCATION:Gasthaus Sponsel\, Hauptstrasse 45\, Kirchehrenbach\, Bayern\, 91356\, Germany
CATEGORIES:Kultur & Events
ATTACH;FMTTYPE=image/png:https://passarena.de/wp-content/uploads/2026/03/PassArena-Format-Homepage-Designer.png
ORGANIZER;CN="Brennerei-Gasthaus Sponsel":MAILTO:passarena@gasthaus-sponsel.de
END:VEVENT
END:VCALENDAR