BEGIN:VCALENDAR
VERSION:2.0
PRODID:-//PassArena - ECPv6.15.18//NONSGML v1.0//EN
CALSCALE:GREGORIAN
METHOD:PUBLISH
X-WR-CALNAME:PassArena
X-ORIGINAL-URL:https://passarena.de
X-WR-CALDESC:Veranstaltungen für PassArena
REFRESH-INTERVAL;VALUE=DURATION:PT1H
X-Robots-Tag:noindex
X-PUBLISHED-TTL:PT1H
BEGIN:VTIMEZONE
TZID:Europe/Berlin
BEGIN:DAYLIGHT
TZOFFSETFROM:+0100
TZOFFSETTO:+0200
TZNAME:CEST
DTSTART:20250330T010000
END:DAYLIGHT
BEGIN:STANDARD
TZOFFSETFROM:+0200
TZOFFSETTO:+0100
TZNAME:CET
DTSTART:20251026T010000
END:STANDARD
BEGIN:DAYLIGHT
TZOFFSETFROM:+0100
TZOFFSETTO:+0200
TZNAME:CEST
DTSTART:20260329T010000
END:DAYLIGHT
BEGIN:STANDARD
TZOFFSETFROM:+0200
TZOFFSETTO:+0100
TZNAME:CET
DTSTART:20261025T010000
END:STANDARD
BEGIN:DAYLIGHT
TZOFFSETFROM:+0100
TZOFFSETTO:+0200
TZNAME:CEST
DTSTART:20270328T010000
END:DAYLIGHT
BEGIN:STANDARD
TZOFFSETFROM:+0200
TZOFFSETTO:+0100
TZNAME:CET
DTSTART:20271031T010000
END:STANDARD
END:VTIMEZONE
BEGIN:VEVENT
DTSTART;TZID=Europe/Berlin:20260426T140000
DTEND;TZID=Europe/Berlin:20260426T170000
DTSTAMP:20260426T032858
CREATED:20260112T162858Z
LAST-MODIFIED:20260117T132039Z
UID:671-1777212000-1777222800@passarena.de
SUMMARY:Skulpturenweg am Walberla – Kunst & Natur im Frühling erleben
DESCRIPTION:Der Skulpturenweg im Frühjahrskleid \nWenn Kunst und Natur im Einklang stehen\, entsteht ein ganz besonderes Erlebnis: Der Skulpturenweg am Walberla zeigt sich im Frühjahr von seiner schönsten Seite. Harmonisch in das natürliche Umfeld eingebettet\, laden die Kunstwerke dazu ein\, Skulpturen im Dialog mit Landschaft\, Licht und Jahreszeit zu entdecken – und die Natur aus neuen Perspektiven wahrzunehmen. \nDer Kunst- und Kulturverein Kirchehrenbach bietet zu diesem Anlass eine exklusive Führung\, die Kunstvermittlung\, Naturerlebnis und Geselligkeit miteinander verbindet. Die Teilnehmenden erhalten spannende Einblicke in die Werke und ihre Wirkung im Landschaftsraum. \nBegleitet wird der Rundgang musikalisch von Hureußl-Blech\, während Georg Neutzner durch die Veranstaltung moderiert. Für das leibliche Wohl ist ebenfalls gesorgt: Bier und Wasser stehen bereit und runden das Erlebnis ab. \nDie Veranstaltung richtet sich an alle\, die Kunst im Freien\, regionale Kultur und die besondere Atmosphäre des Walberla im Frühling genießen möchten. \nTreffpunkt: KneippbeckenEintritt: freiAnmeldung: nicht erforderlich
URL:https://passarena.de/event/skulpturenweg-am-walberla-kunst-natur-im-fruehling-erleben/
LOCATION:Skulpturenweg am Walberla\, Kirchehrenbach\, Bayern\, 91356\, Germany
CATEGORIES:kostenlose Veranstaltung,Kultur & Events,Vereine
ATTACH;FMTTYPE=image/jpeg:https://passarena.de/wp-content/uploads/2025/12/SkulpturenwegFrhjahr2026325x200px.jpg
ORGANIZER;CN="Kunst- und Kulturverein Kirchehrenbach e.V.":MAILTO:shop@kukuki.org
END:VEVENT
END:VCALENDAR